BEGIN:VCALENDAR
VERSION:2.0
PRODID:-//Kingsbridge Community - ECPv6.15.20//NONSGML v1.0//EN
CALSCALE:GREGORIAN
METHOD:PUBLISH
X-WR-CALNAME:Kingsbridge Community
X-ORIGINAL-URL:https://kingsbridgecentre.ca
X-WR-CALDESC:Events for Kingsbridge Community
REFRESH-INTERVAL;VALUE=DURATION:PT1H
X-Robots-Tag:noindex
X-PUBLISHED-TTL:PT1H
BEGIN:VTIMEZONE
TZID:America/Toronto
BEGIN:DAYLIGHT
TZOFFSETFROM:-0500
TZOFFSETTO:-0400
TZNAME:EDT
DTSTART:20250309T070000
END:DAYLIGHT
BEGIN:STANDARD
TZOFFSETFROM:-0400
TZOFFSETTO:-0500
TZNAME:EST
DTSTART:20251102T060000
END:STANDARD
BEGIN:DAYLIGHT
TZOFFSETFROM:-0500
TZOFFSETTO:-0400
TZNAME:EDT
DTSTART:20260308T070000
END:DAYLIGHT
BEGIN:STANDARD
TZOFFSETFROM:-0400
TZOFFSETTO:-0500
TZNAME:EST
DTSTART:20261101T060000
END:STANDARD
BEGIN:DAYLIGHT
TZOFFSETFROM:-0500
TZOFFSETTO:-0400
TZNAME:EDT
DTSTART:20270314T070000
END:DAYLIGHT
BEGIN:STANDARD
TZOFFSETFROM:-0400
TZOFFSETTO:-0500
TZNAME:EST
DTSTART:20271107T060000
END:STANDARD
END:VTIMEZONE
BEGIN:VEVENT
DTSTART;TZID=America/Toronto:20260417T200000
DTEND;TZID=America/Toronto:20260417T220000
DTSTAMP:20260419T090035
CREATED:20260218T134018Z
LAST-MODIFIED:20260323T164348Z
UID:5954-1776456000-1776463200@kingsbridgecentre.ca
SUMMARY:Dames Rocket and Kati Durst & Dave Sutherland
DESCRIPTION:Come on over to Kingsbridge to take in a double bill this evening with Dames Rocket and Kati Durst & Dave Sutherland. Dames Rocket is a girl band from Goderich\, Ontario. This group puts a unique acoustic spin on all of your favourites songs. Members include: Shelly Johnston\, Kati Durst\, Kelly Durst\, Rachel White\, Monica Walker-Bolton and Bridget Hayden. Kati Durst and Dave Sutherland are an amazing acoustic duo who play a blend of classics and favourites ~ heavy on the love songs. Admission is $20 at the door. Refreshments available. Wheelchair Accessible Building.
URL:https://kingsbridgecentre.ca/event/dames-rocket-2/
CATEGORIES:Featured
END:VEVENT
END:VCALENDAR