BEGIN:VCALENDAR
VERSION:2.0
PRODID:-//Kingsbridge Community - ECPv6.15.20//NONSGML v1.0//EN
CALSCALE:GREGORIAN
METHOD:PUBLISH
X-WR-CALNAME:Kingsbridge Community
X-ORIGINAL-URL:https://kingsbridgecentre.ca
X-WR-CALDESC:Events for Kingsbridge Community
REFRESH-INTERVAL;VALUE=DURATION:PT1H
X-Robots-Tag:noindex
X-PUBLISHED-TTL:PT1H
BEGIN:VTIMEZONE
TZID:America/Toronto
BEGIN:DAYLIGHT
TZOFFSETFROM:-0500
TZOFFSETTO:-0400
TZNAME:EDT
DTSTART:20230312T070000
END:DAYLIGHT
BEGIN:STANDARD
TZOFFSETFROM:-0400
TZOFFSETTO:-0500
TZNAME:EST
DTSTART:20231105T060000
END:STANDARD
BEGIN:DAYLIGHT
TZOFFSETFROM:-0500
TZOFFSETTO:-0400
TZNAME:EDT
DTSTART:20240310T070000
END:DAYLIGHT
BEGIN:STANDARD
TZOFFSETFROM:-0400
TZOFFSETTO:-0500
TZNAME:EST
DTSTART:20241103T060000
END:STANDARD
BEGIN:DAYLIGHT
TZOFFSETFROM:-0500
TZOFFSETTO:-0400
TZNAME:EDT
DTSTART:20250309T070000
END:DAYLIGHT
BEGIN:STANDARD
TZOFFSETFROM:-0400
TZOFFSETTO:-0500
TZNAME:EST
DTSTART:20251102T060000
END:STANDARD
END:VTIMEZONE
BEGIN:VEVENT
DTSTART;TZID=America/Toronto:20240607T200000
DTEND;TZID=America/Toronto:20240607T220000
DTSTAMP:20260421T191553
CREATED:20240316T135544Z
LAST-MODIFIED:20240410T021852Z
UID:1095-1717790400-1717797600@kingsbridgecentre.ca
SUMMARY:Kingsbridge the Musical VI ~ Where Do We Go From Here?
DESCRIPTION:Join us for the final instalment of the Kingsbridge Chronicles.  This play is written by Warren Robinson and Mary Murdoch with original music by Eleanor Robinson and lyrics by Warren Robinson. Admission is paid at the door. $20 per adult\, $10 per student and $5 for children under 12. Doors open one hour before showtimes. Refreshments available. Kingsbridge Centre is wheelchair accessible.
URL:https://kingsbridgecentre.ca/event/kingsbridge-the-musical-4/
END:VEVENT
BEGIN:VEVENT
DTSTART;TZID=America/Toronto:20240602T140000
DTEND;TZID=America/Toronto:20240602T160000
DTSTAMP:20260421T191553
CREATED:20240316T135454Z
LAST-MODIFIED:20240410T022203Z
UID:1093-1717336800-1717344000@kingsbridgecentre.ca
SUMMARY:Kingsbridge the Musical VI ~ Where Do We Go From Here?
DESCRIPTION:Join us for the final instalment of the Kingsbridge Chronicles.  This play is written by Warren Robinson and Mary Murdoch with original music by Eleanor Robinson and lyrics by Warren Robinson. Admission is paid at the door. $20 per adult\, $10 per student and $5 for children under 12. Doors open one hour before showtimes. Refreshments available. Kingsbridge Centre is wheelchair accessible.
URL:https://kingsbridgecentre.ca/event/kingsbridge-the-musical-3/
END:VEVENT
BEGIN:VEVENT
DTSTART;TZID=America/Toronto:20240601T200000
DTEND;TZID=America/Toronto:20240601T220000
DTSTAMP:20260421T191553
CREATED:20240316T135410Z
LAST-MODIFIED:20240410T022322Z
UID:1091-1717272000-1717279200@kingsbridgecentre.ca
SUMMARY:Kingsbridge the Musical VI ~ Where Do We Go From Here?
DESCRIPTION:Join us for the final instalment of the Kingsbridge Chronicles.  This play is written by Warren Robinson and Mary Murdoch with original music by Eleanor Robinson and lyrics by Warren Robinson. Admission is paid at the door. $20 per adult\, $10 per student and $5 for children under 12. Doors open one hour before showtimes. Refreshments available. Kingsbridge Centre is wheelchair accessible.
URL:https://kingsbridgecentre.ca/event/kingsbridge-the-musical-2/
END:VEVENT
BEGIN:VEVENT
DTSTART;TZID=America/Toronto:20240531T200000
DTEND;TZID=America/Toronto:20240531T220000
DTSTAMP:20260421T191553
CREATED:20240316T135257Z
LAST-MODIFIED:20240410T022510Z
UID:1089-1717185600-1717192800@kingsbridgecentre.ca
SUMMARY:Kingsbridge the Musical VI ~ Where Do We Go From Here?
DESCRIPTION:Join us for the final instalment of the Kingsbridge Chronicles.  This play is written by Warren Robinson and Mary Murdoch with original music by Eleanor Robinson and lyrics by Warren Robinson. Admission is paid at the door. $20 per adult\, $10 per student and $5 for children under 12. Doors open one hour before showtimes. Refreshments available. Kingsbridge Centre is wheelchair accessible.
URL:https://kingsbridgecentre.ca/event/kingsbridge-the-musical/
END:VEVENT
BEGIN:VEVENT
DTSTART;TZID=America/Toronto:20240518T090000
DTEND;TZID=America/Toronto:20240518T130000
DTSTAMP:20260421T191553
CREATED:20240403T233644Z
LAST-MODIFIED:20240403T233644Z
UID:1173-1716022800-1716037200@kingsbridgecentre.ca
SUMMARY:Private Event : Lakeland Estates
DESCRIPTION:
URL:https://kingsbridgecentre.ca/event/private-event-lakeland-estates/
LOCATION:Kingsbridge Basement Hall
END:VEVENT
BEGIN:VEVENT
DTSTART;TZID=America/Toronto:20240516T090000
DTEND;TZID=America/Toronto:20240516T170000
DTSTAMP:20260421T191553
CREATED:20240503T014801Z
LAST-MODIFIED:20240503T014801Z
UID:1326-1715850000-1715878800@kingsbridgecentre.ca
SUMMARY:Mental Health First Aid Training
DESCRIPTION:Open to anyone hoping to expand their knowledge and understanding of mental health and substance use issues and improve their confidence in supporting someone experiencing a mental health decline or crisis.  Only $100 per person.  Register by May 8th\, 2024 to reserve your spot!   To register email mhfatraininggateway@gmail.com \nFor more information visit:  www.gatewayruralhealth.ca/mentalhealthfirstaid
URL:https://kingsbridgecentre.ca/event/mental-health-first-aid-training/
END:VEVENT
BEGIN:VEVENT
DTSTART;TZID=America/Toronto:20240511T083000
DTEND;TZID=America/Toronto:20240511T130000
DTSTAMP:20260421T191553
CREATED:20240403T233456Z
LAST-MODIFIED:20240403T233456Z
UID:1171-1715416200-1715432400@kingsbridgecentre.ca
SUMMARY:Private Event : Ashfield Colborne Lakefront Assocation
DESCRIPTION:
URL:https://kingsbridgecentre.ca/event/private-event-ashfield-colborne-lakefront-assocation/
LOCATION:Kingsbridge Basement Hall
END:VEVENT
BEGIN:VEVENT
DTSTART;TZID=America/Toronto:20240503T193000
DTEND;TZID=America/Toronto:20240503T213000
DTSTAMP:20260421T191553
CREATED:20240321T204459Z
LAST-MODIFIED:20240408T212534Z
UID:1101-1714764600-1714771800@kingsbridgecentre.ca
SUMMARY:Goderich Laketown Band
DESCRIPTION:This community band has been an integral part of Goderich for over 50 years\, performing at events all over Huron County and beyond – and now they are returning to Kingsbridge!  Admission is by donation.  Refreshments available.  Kingsbridge Centre is wheelchair accessible.
URL:https://kingsbridgecentre.ca/event/goderich-laketown-band-2/
END:VEVENT
BEGIN:VEVENT
DTSTART;TZID=America/Toronto:20240421T103000
DTEND;TZID=America/Toronto:20240421T110000
DTSTAMP:20260421T191553
CREATED:20240301T163508Z
LAST-MODIFIED:20240408T213028Z
UID:1049-1713695400-1713697200@kingsbridgecentre.ca
SUMMARY:Family Sunday School
DESCRIPTION:Family Sunday school is open to any family with elementary aged or younger children who want to join in. It runs on Sundays from 10:30 a.m. to 11:15 a.m. twice per month.  The focus is on making children aware of basic beliefs of Christianity. If you are interested\, feel free to come and give it a try. Call Jackie at 519 441-8833 if you have any questions.
URL:https://kingsbridgecentre.ca/event/family-sunday-school-4/
END:VEVENT
BEGIN:VEVENT
DTSTART;TZID=America/Toronto:20240420T200000
DTEND;TZID=America/Toronto:20240420T220000
DTSTAMP:20260421T191553
CREATED:20240310T152935Z
LAST-MODIFIED:20240310T152935Z
UID:1080-1713643200-1713650400@kingsbridgecentre.ca
SUMMARY:The Irish Cowboys
DESCRIPTION:The Irish Cowboys are back by popular demand.  Join this  fun loving group of mature musicians and singers who love to entertain!  Admission by donation.  Refreshments available. \n 
URL:https://kingsbridgecentre.ca/event/the-irish-cowboys-2/
END:VEVENT
BEGIN:VEVENT
DTSTART;TZID=America/Toronto:20240407T103000
DTEND;TZID=America/Toronto:20240407T110000
DTSTAMP:20260421T191553
CREATED:20240301T163354Z
LAST-MODIFIED:20240327T151529Z
UID:1047-1712485800-1712487600@kingsbridgecentre.ca
SUMMARY:Family Sunday School
DESCRIPTION:Family Sunday school is open to any family with elementary aged or younger children who want to join in. It runs on Sundays from 10:30 a.m. to 11:15 a.m. twice per month.  The focus is on making children aware of basic beliefs of Christianity. If you are interested\, feel free to come and give it a try. Call Jackie at 519 441-8833 if you have any questions.
URL:https://kingsbridgecentre.ca/event/family-sunday-school-3/
END:VEVENT
BEGIN:VEVENT
DTSTART;TZID=America/Toronto:20240406T193000
DTEND;TZID=America/Toronto:20240406T213000
DTSTAMP:20260421T191553
CREATED:20240301T165013Z
LAST-MODIFIED:20240327T172759Z
UID:1053-1712431800-1712439000@kingsbridgecentre.ca
SUMMARY:'thatotherchoir' and The Blyth Orchestra
DESCRIPTION:Music lovers are in for a treat when Vivaldi’s famous Gloria is performed by the Huron County chamber ensemble\, thaotherchoir\, and the Blyth Festival Orchestra.  Refreshments available.  Admission by donation.
URL:https://kingsbridgecentre.ca/event/thatotherchoir-and-the-blyth-orchestra/
END:VEVENT
BEGIN:VEVENT
DTSTART;TZID=America/Toronto:20240402T190000
DTEND;TZID=America/Toronto:20240402T210000
DTSTAMP:20260421T191553
CREATED:20240310T152336Z
LAST-MODIFIED:20240310T152336Z
UID:1078-1712084400-1712091600@kingsbridgecentre.ca
SUMMARY:Cast Call for Kingsbridge the Musical
DESCRIPTION:The cast of ‘Kingsbridge The Musical’ will begin rehearsals for the upcoming performances to be held May 31\, June 1\, 2\, 7\, 8\, and 9th\, 2024.
URL:https://kingsbridgecentre.ca/event/cast-call-for-kingsbridge-the-musical/
END:VEVENT
BEGIN:VEVENT
DTSTART;TZID=America/Toronto:20240329T190000
DTEND;TZID=America/Toronto:20240329T203000
DTSTAMP:20260421T191553
CREATED:20240226T154336Z
LAST-MODIFIED:20240226T154336Z
UID:1038-1711738800-1711744200@kingsbridgecentre.ca
SUMMARY:Journey to Easter
DESCRIPTION:Please join us for ‘A Journey to Easter’ a dramatic performance featuring the Kingsbridge Community Choir and our young performers. A free will offering will be collected. Everyone welcome.
URL:https://kingsbridgecentre.ca/event/journey-to-easter-2/
END:VEVENT
BEGIN:VEVENT
DTSTART;TZID=America/Toronto:20240324T103000
DTEND;TZID=America/Toronto:20240324T110000
DTSTAMP:20260421T191553
CREATED:20240301T163230Z
LAST-MODIFIED:20240301T163230Z
UID:1045-1711276200-1711278000@kingsbridgecentre.ca
SUMMARY:Family Sunday School
DESCRIPTION:Family Sunday school group is open to any family with elementary aged or younger children who want to join in. It runs on Sundays from 10:30 a.m. to 11:15 a.m. twice per month.  The focus is on making children aware of basic beliefs of Christianity. If you are interested\, feel free to come and give it a try. Call Jackie at 519 441-8833 if you have any questions.
URL:https://kingsbridgecentre.ca/event/family-sunday-school-2/
END:VEVENT
BEGIN:VEVENT
DTSTART;TZID=America/Toronto:20240322T190000
DTEND;TZID=America/Toronto:20240322T210000
DTSTAMP:20260421T191553
CREATED:20240226T153838Z
LAST-MODIFIED:20240226T154555Z
UID:1036-1711134000-1711141200@kingsbridgecentre.ca
SUMMARY:Family Bingo!
DESCRIPTION:Join us in the Kingsbridge Centre Hall for an evening of Bingo for the whole family.  Admission is $2 per person which includes one bingo card.  More cards and refreshments are available for purchase.  Many prizes and share the wealth games. \n 
URL:https://kingsbridgecentre.ca/event/family-bingo/
END:VEVENT
BEGIN:VEVENT
DTSTART;TZID=America/Toronto:20240314T193000
DTEND;TZID=America/Toronto:20240314T213000
DTSTAMP:20260421T191553
CREATED:20240307T202601Z
LAST-MODIFIED:20240310T151605Z
UID:1059-1710444600-1710451800@kingsbridgecentre.ca
SUMMARY:Runa
DESCRIPTION:Celtic Roots band RUNA is so very excited to be coming back to the area to kick off your St. Paddy’s season with a concert at The Kingsbridge Centre 84675A Bluewater Hwy\, Goderich\, ON   Join us all first for a wonderful spaghetti dinner provided by The Kingsbridge Centre from 5pm-7pm (pay what you want).  Tickets for the concert will be $20 and only available at the door.  Joining RUNA on fiddle for this very special night will be London\, Ontario’s own SHANE COOK (needs no introduction) as well as Nashville’s ROSS HOLMES (Mumford & Sons\, Nitty Gritty Dirt Band)
URL:https://kingsbridgecentre.ca/event/runa/
END:VEVENT
BEGIN:VEVENT
DTSTART;TZID=America/Toronto:20240314T170000
DTEND;TZID=America/Toronto:20240314T190000
DTSTAMP:20260421T191553
CREATED:20240226T134001Z
LAST-MODIFIED:20260202T144358Z
UID:1028-1710435600-1710442800@kingsbridgecentre.ca
SUMMARY:Family Spaghetti Dinner
DESCRIPTION:Join your neighbours and friends in the Kingsbridge Centre Hall for a delicious spaghetti dinner!  Arrive anytime between 5 pm and 7 pm.  Admission is by donation.  Following the dinner\, take in the RUNA concert upstairs!
URL:https://kingsbridgecentre.ca/event/family-spaghetti-dinner/
END:VEVENT
BEGIN:VEVENT
DTSTART;TZID=America/Toronto:20240310T103000
DTEND;TZID=America/Toronto:20240310T111500
DTSTAMP:20260421T191553
CREATED:20240301T163049Z
LAST-MODIFIED:20240307T231044Z
UID:1043-1710066600-1710069300@kingsbridgecentre.ca
SUMMARY:Family Sunday School
DESCRIPTION:Family Sunday school is open to any family with elementary aged or younger children. It runs on Sundays from 10:30 a.m. to 11:15 a.m. twice per month at the Kingsbridge Centre. The focus is on making children aware of basic beliefs of Christianity. If you are interested\, feel free to come and give it a try. Call Jackie at 519 441-8833 if you have any questions.
URL:https://kingsbridgecentre.ca/event/family-sunday-school/
END:VEVENT
BEGIN:VEVENT
DTSTART;TZID=America/Toronto:20240227T190000
DTEND;TZID=America/Toronto:20240227T200000
DTSTAMP:20260421T191553
CREATED:20240226T144653Z
LAST-MODIFIED:20240226T144653Z
UID:1031-1709060400-1709064000@kingsbridgecentre.ca
SUMMARY:St. Joseph's Community Choir Practice
DESCRIPTION:Join us at the Kingsbridge Centre.  New members welcome.
URL:https://kingsbridgecentre.ca/event/st-josephs-community-choir-practice/
END:VEVENT
END:VCALENDAR